BEGIN:VCALENDAR
VERSION:2.0
PRODID:-//miraajacademy.org//NONSGML kigkonsult.se iCalcreator 2.30.10//
CALSCALE:GREGORIAN
METHOD:PUBLISH
UID:31e54bc9-7026-4a39-ae96-3dd998dbe670
X-WR-CALDESC:
X-WR-RELCALID:34ee34b038c7d0f7698f9539eafaafea
X-WR-TIMEZONE:America/Chicago
BEGIN:VTIMEZONE
TZID:America/Chicago
BEGIN:STANDARD
TZNAME:CST
DTSTART:20271107T020000
TZOFFSETFROM:-0500
TZOFFSETTO:-0600
RDATE:20281105T020000
END:STANDARD
BEGIN:DAYLIGHT
TZNAME:CDT
DTSTART:20280312T020000
TZOFFSETFROM:-0600
TZOFFSETTO:-0500
RDATE:20290311T020000
END:DAYLIGHT
END:VTIMEZONE
BEGIN:VEVENT
UID:57afb295-d0c6-43f1-a637-a6ac82b74580
DTSTAMP:20260425T003323Z
DESCRIPTION:
DTSTART;TZID=America/Chicago:20280415T000000
DTEND;TZID=America/Chicago:20280923T235900
LOCATION:
SUMMARY:Recreational Activities
END:VEVENT
END:VCALENDAR
