BEGIN:VCALENDAR
VERSION:2.0
PRODID:-//miraajacademy.org//NONSGML kigkonsult.se iCalcreator 2.30.10//
CALSCALE:GREGORIAN
METHOD:PUBLISH
UID:4e603942-ac68-4f31-a708-52ce7406214e
X-WR-CALDESC:
X-WR-RELCALID:6239f4093a74216e765b29ec9f8c1459
X-WR-TIMEZONE:America/Chicago
BEGIN:VTIMEZONE
TZID:America/Chicago
BEGIN:STANDARD
TZNAME:CST
DTSTART:20271107T020000
TZOFFSETFROM:-0500
TZOFFSETTO:-0600
RDATE:20281105T020000
END:STANDARD
BEGIN:DAYLIGHT
TZNAME:CDT
DTSTART:20280312T020000
TZOFFSETFROM:-0600
TZOFFSETTO:-0500
RDATE:20290311T020000
END:DAYLIGHT
END:VTIMEZONE
BEGIN:VEVENT
UID:108508c7-038d-4ffd-977f-8acc5aa3e539
DTSTAMP:20260425T003924Z
DESCRIPTION:
DTSTART;TZID=America/Chicago:20280401T000000
DTEND;TZID=America/Chicago:20280909T235900
LOCATION:
SUMMARY:Recreational Activities
END:VEVENT
END:VCALENDAR
