BEGIN:VCALENDAR
VERSION:2.0
PRODID:-//miraajacademy.org//NONSGML kigkonsult.se iCalcreator 2.30.10//
CALSCALE:GREGORIAN
METHOD:PUBLISH
UID:580ae2d5-1297-4bd2-a16f-d03148f4f2e8
X-WR-CALDESC:
X-WR-RELCALID:1d6caaa40483a880eb239b11359e236a
X-WR-TIMEZONE:America/Chicago
BEGIN:VTIMEZONE
TZID:America/Chicago
BEGIN:STANDARD
TZNAME:CST
DTSTART:20271107T020000
TZOFFSETFROM:-0500
TZOFFSETTO:-0600
RDATE:20281105T020000
END:STANDARD
BEGIN:DAYLIGHT
TZNAME:CDT
DTSTART:20280312T020000
TZOFFSETFROM:-0600
TZOFFSETTO:-0500
RDATE:20290311T020000
END:DAYLIGHT
END:VTIMEZONE
BEGIN:VEVENT
UID:cc04b6f7-8934-48c3-b17d-b720d5c14729
DTSTAMP:20260424T231251Z
DESCRIPTION:
DTSTART;TZID=America/Chicago:20280318T000000
DTEND;TZID=America/Chicago:20280826T235900
LOCATION:
SUMMARY:Recreational Activities
END:VEVENT
END:VCALENDAR
