BEGIN:VCALENDAR
VERSION:2.0
PRODID:-//miraajacademy.org//NONSGML kigkonsult.se iCalcreator 2.30.10//
CALSCALE:GREGORIAN
METHOD:PUBLISH
UID:0a1f5962-6e7e-40cb-8206-a728518746e7
X-WR-CALDESC:
X-WR-RELCALID:cd07fc2e27d4a28d40d25065d26b444e
X-WR-TIMEZONE:America/Chicago
BEGIN:VTIMEZONE
TZID:America/Chicago
BEGIN:STANDARD
TZNAME:CST
DTSTART:20271107T020000
TZOFFSETFROM:-0500
TZOFFSETTO:-0600
RDATE:20281105T020000
END:STANDARD
BEGIN:DAYLIGHT
TZNAME:CDT
DTSTART:20270314T020000
TZOFFSETFROM:-0600
TZOFFSETTO:-0500
RDATE:20280312T020000
RDATE:20290311T020000
END:DAYLIGHT
END:VTIMEZONE
BEGIN:VEVENT
UID:29e1491f-eaf2-4516-a437-c60e76745553
DTSTAMP:20260424T214719Z
DESCRIPTION:
DTSTART;TZID=America/Chicago:20280219T000000
DTEND;TZID=America/Chicago:20280729T235900
LOCATION:
SUMMARY:Recreational Activities
END:VEVENT
END:VCALENDAR
