BEGIN:VCALENDAR
VERSION:2.0
PRODID:-//miraajacademy.org//NONSGML kigkonsult.se iCalcreator 2.30.10//
CALSCALE:GREGORIAN
METHOD:PUBLISH
UID:edc37da1-4a1c-4dbe-bca7-4af5a64eab7d
X-WR-CALDESC:
X-WR-RELCALID:e5c6e3dfab6665055af456869c6176b9
X-WR-TIMEZONE:America/Chicago
BEGIN:VTIMEZONE
TZID:America/Chicago
BEGIN:STANDARD
TZNAME:CST
DTSTART:20271107T020000
TZOFFSETFROM:-0500
TZOFFSETTO:-0600
RDATE:20281105T020000
END:STANDARD
BEGIN:DAYLIGHT
TZNAME:CDT
DTSTART:20270314T020000
TZOFFSETFROM:-0600
TZOFFSETTO:-0500
RDATE:20280312T020000
RDATE:20290311T020000
END:DAYLIGHT
END:VTIMEZONE
BEGIN:VEVENT
UID:635d8909-a042-40de-a1d4-3e725290080a
DTSTAMP:20260424T215726Z
DESCRIPTION:
DTSTART;TZID=America/Chicago:20280205T000000
DTEND;TZID=America/Chicago:20280715T235900
LOCATION:
SUMMARY:Recreational Activities
END:VEVENT
END:VCALENDAR
