BEGIN:VCALENDAR
VERSION:2.0
PRODID:-//miraajacademy.org//NONSGML kigkonsult.se iCalcreator 2.30.10//
CALSCALE:GREGORIAN
METHOD:PUBLISH
UID:4e7acca7-0e5b-4887-a701-2c507cf95fd9
X-WR-CALDESC:
X-WR-RELCALID:6025afe1734babcd0f0bd28211510539
X-WR-TIMEZONE:America/Chicago
BEGIN:VTIMEZONE
TZID:America/Chicago
BEGIN:STANDARD
TZNAME:CST
DTSTART:20271107T020000
TZOFFSETFROM:-0500
TZOFFSETTO:-0600
RDATE:20281105T020000
END:STANDARD
BEGIN:DAYLIGHT
TZNAME:CDT
DTSTART:20270314T020000
TZOFFSETFROM:-0600
TZOFFSETTO:-0500
RDATE:20280312T020000
RDATE:20290311T020000
END:DAYLIGHT
END:VTIMEZONE
BEGIN:VEVENT
UID:84df4b72-4b15-4983-b77d-e9ddc00d560f
DTSTAMP:20260424T205616Z
DESCRIPTION:
DTSTART;TZID=America/Chicago:20280115T000000
DTEND;TZID=America/Chicago:20280624T235900
LOCATION:
SUMMARY:Recreational Activities
END:VEVENT
END:VCALENDAR
