BEGIN:VCALENDAR
VERSION:2.0
PRODID:-//miraajacademy.org//NONSGML kigkonsult.se iCalcreator 2.30.10//
CALSCALE:GREGORIAN
METHOD:PUBLISH
UID:a7d8effb-5a10-4958-897f-f6b04433874c
X-WR-CALDESC:
X-WR-RELCALID:76e87a5722ab1f4f23147fc7239d1901
X-WR-TIMEZONE:America/Chicago
BEGIN:VTIMEZONE
TZID:America/Chicago
BEGIN:STANDARD
TZNAME:CST
DTSTART:20271107T020000
TZOFFSETFROM:-0500
TZOFFSETTO:-0600
RDATE:20281105T020000
END:STANDARD
BEGIN:DAYLIGHT
TZNAME:CDT
DTSTART:20270314T020000
TZOFFSETFROM:-0600
TZOFFSETTO:-0500
RDATE:20280312T020000
RDATE:20290311T020000
END:DAYLIGHT
END:VTIMEZONE
BEGIN:VEVENT
UID:160d7c41-f31a-4971-ae6c-0a626343461d
DTSTAMP:20260424T191733Z
DESCRIPTION:
DTSTART;TZID=America/Chicago:20271218T000000
DTEND;TZID=America/Chicago:20280527T235900
LOCATION:
SUMMARY:Recreational Activities
END:VEVENT
END:VCALENDAR
