BEGIN:VCALENDAR
VERSION:2.0
PRODID:-//miraajacademy.org//NONSGML kigkonsult.se iCalcreator 2.30.10//
CALSCALE:GREGORIAN
METHOD:PUBLISH
UID:22a38dbf-3957-4d24-93ac-1a0c5ca3604e
X-WR-CALDESC:
X-WR-RELCALID:6abe47b36b284af23a9c9a1ac567b2a0
X-WR-TIMEZONE:America/Chicago
BEGIN:VTIMEZONE
TZID:America/Chicago
BEGIN:STANDARD
TZNAME:CST
DTSTART:20271107T020000
TZOFFSETFROM:-0500
TZOFFSETTO:-0600
RDATE:20281105T020000
END:STANDARD
BEGIN:DAYLIGHT
TZNAME:CDT
DTSTART:20270314T020000
TZOFFSETFROM:-0600
TZOFFSETTO:-0500
RDATE:20280312T020000
RDATE:20290311T020000
END:DAYLIGHT
END:VTIMEZONE
BEGIN:VEVENT
UID:7d8ca946-987d-4d5a-8013-c6d55d746d89
DTSTAMP:20260424T191926Z
DESCRIPTION:
DTSTART;TZID=America/Chicago:20271204T000000
DTEND;TZID=America/Chicago:20280513T235900
LOCATION:
SUMMARY:Recreational Activities
END:VEVENT
END:VCALENDAR
