BEGIN:VCALENDAR
VERSION:2.0
PRODID:-//miraajacademy.org//NONSGML kigkonsult.se iCalcreator 2.30.10//
CALSCALE:GREGORIAN
METHOD:PUBLISH
UID:589ff0ed-7ed9-414b-b17b-4df638cc5a1c
X-WR-CALDESC:
X-WR-RELCALID:5b571507a226a5ec43874e66a3648faf
X-WR-TIMEZONE:America/Chicago
BEGIN:VTIMEZONE
TZID:America/Chicago
BEGIN:STANDARD
TZNAME:CST
DTSTART:20271107T020000
TZOFFSETFROM:-0500
TZOFFSETTO:-0600
RDATE:20281105T020000
END:STANDARD
BEGIN:DAYLIGHT
TZNAME:CDT
DTSTART:20270314T020000
TZOFFSETFROM:-0600
TZOFFSETTO:-0500
RDATE:20280312T020000
RDATE:20290311T020000
END:DAYLIGHT
END:VTIMEZONE
BEGIN:VEVENT
UID:d19d1cda-b5e4-4439-a66d-ac6c27ad8d44
DTSTAMP:20260424T175322Z
DESCRIPTION:
DTSTART;TZID=America/Chicago:20271120T000000
DTEND;TZID=America/Chicago:20280429T235900
LOCATION:
SUMMARY:Recreational Activities
END:VEVENT
END:VCALENDAR
