BEGIN:VCALENDAR
VERSION:2.0
PRODID:-//miraajacademy.org//NONSGML kigkonsult.se iCalcreator 2.30.10//
CALSCALE:GREGORIAN
METHOD:PUBLISH
UID:666d0167-c163-41e5-8283-b6175c86b342
X-WR-CALDESC:
X-WR-RELCALID:ef98719319872c32ba3bad068ea9a6f2
X-WR-TIMEZONE:America/Chicago
BEGIN:VTIMEZONE
TZID:America/Chicago
BEGIN:STANDARD
TZNAME:CST
DTSTART:20261101T020000
TZOFFSETFROM:-0500
TZOFFSETTO:-0600
RDATE:20271107T020000
RDATE:20281105T020000
END:STANDARD
BEGIN:DAYLIGHT
TZNAME:CDT
DTSTART:20270314T020000
TZOFFSETFROM:-0600
TZOFFSETTO:-0500
RDATE:20280312T020000
RDATE:20290311T020000
END:DAYLIGHT
END:VTIMEZONE
BEGIN:VEVENT
UID:c883e3d0-d470-4ff5-abce-a6f1ce283c63
DTSTAMP:20260424T164036Z
DESCRIPTION:
DTSTART;TZID=America/Chicago:20271002T000000
DTEND;TZID=America/Chicago:20280311T235900
LOCATION:
SUMMARY:Recreational Activities
END:VEVENT
END:VCALENDAR
