BEGIN:VCALENDAR
VERSION:2.0
PRODID:-//miraajacademy.org//NONSGML kigkonsult.se iCalcreator 2.30.10//
CALSCALE:GREGORIAN
METHOD:PUBLISH
UID:6ec00119-1b6d-4768-bc9c-657b85e4735a
X-WR-CALDESC:
X-WR-RELCALID:7f99ca6504d11a67657fbbe7f66fd16d
X-WR-TIMEZONE:America/Chicago
BEGIN:VTIMEZONE
TZID:America/Chicago
BEGIN:STANDARD
TZNAME:CST
DTSTART:20261101T020000
TZOFFSETFROM:-0500
TZOFFSETTO:-0600
RDATE:20271107T020000
RDATE:20281105T020000
END:STANDARD
BEGIN:DAYLIGHT
TZNAME:CDT
DTSTART:20270314T020000
TZOFFSETFROM:-0600
TZOFFSETTO:-0500
RDATE:20280312T020000
END:DAYLIGHT
END:VTIMEZONE
BEGIN:VEVENT
UID:a0de94ac-4960-49a8-a8f0-fc172e5f056c
DTSTAMP:20260424T133131Z
DESCRIPTION:
DTSTART;TZID=America/Chicago:20270821T000000
DTEND;TZID=America/Chicago:20280129T235900
LOCATION:
SUMMARY:Recreational Activities
END:VEVENT
END:VCALENDAR
