BEGIN:VCALENDAR
VERSION:2.0
PRODID:-//miraajacademy.org//NONSGML kigkonsult.se iCalcreator 2.30.10//
CALSCALE:GREGORIAN
METHOD:PUBLISH
UID:e73ff116-5c71-4c66-89ec-3b67d39a4b3a
X-WR-CALDESC:
X-WR-RELCALID:19200ee48b783abf1ac45ab2360d7c15
X-WR-TIMEZONE:America/Chicago
BEGIN:VTIMEZONE
TZID:America/Chicago
BEGIN:STANDARD
TZNAME:CST
DTSTART:20261101T020000
TZOFFSETFROM:-0500
TZOFFSETTO:-0600
RDATE:20271107T020000
RDATE:20281105T020000
END:STANDARD
BEGIN:DAYLIGHT
TZNAME:CDT
DTSTART:20270314T020000
TZOFFSETFROM:-0600
TZOFFSETTO:-0500
RDATE:20280312T020000
END:DAYLIGHT
END:VTIMEZONE
BEGIN:VEVENT
UID:8012aeeb-6223-4c76-a5bb-00f367c71bf2
DTSTAMP:20260424T132700Z
DESCRIPTION:
DTSTART;TZID=America/Chicago:20270807T000000
DTEND;TZID=America/Chicago:20280115T235900
LOCATION:
SUMMARY:Recreational Activities
END:VEVENT
END:VCALENDAR
