BEGIN:VCALENDAR
VERSION:2.0
PRODID:-//miraajacademy.org//NONSGML kigkonsult.se iCalcreator 2.30.10//
CALSCALE:GREGORIAN
METHOD:PUBLISH
UID:da553af0-6aaf-4261-ae63-230ddf02aed1
X-WR-CALDESC:
X-WR-RELCALID:619e708667f1f466b7b407d440e1a3d3
X-WR-TIMEZONE:America/Chicago
BEGIN:VTIMEZONE
TZID:America/Chicago
BEGIN:STANDARD
TZNAME:CST
DTSTART:20261101T020000
TZOFFSETFROM:-0500
TZOFFSETTO:-0600
RDATE:20271107T020000
RDATE:20281105T020000
END:STANDARD
BEGIN:DAYLIGHT
TZNAME:CDT
DTSTART:20270314T020000
TZOFFSETFROM:-0600
TZOFFSETTO:-0500
RDATE:20280312T020000
END:DAYLIGHT
END:VTIMEZONE
BEGIN:VEVENT
UID:aa8c2fa4-96fa-4d4d-9e8c-2d5bc3ce0836
DTSTAMP:20260424T121027Z
DESCRIPTION:
DTSTART;TZID=America/Chicago:20270703T000000
DTEND;TZID=America/Chicago:20271211T235900
LOCATION:
SUMMARY:Recreational Activities
END:VEVENT
END:VCALENDAR
