BEGIN:VCALENDAR
VERSION:2.0
PRODID:-//miraajacademy.org//NONSGML kigkonsult.se iCalcreator 2.30.10//
CALSCALE:GREGORIAN
METHOD:PUBLISH
UID:e052e662-cdde-4ed6-9c46-432055835357
X-WR-CALDESC:
X-WR-RELCALID:87900e931a47359473938862fbf9b8a0
X-WR-TIMEZONE:America/Chicago
BEGIN:VTIMEZONE
TZID:America/Chicago
BEGIN:STANDARD
TZNAME:CST
DTSTART:20261101T020000
TZOFFSETFROM:-0500
TZOFFSETTO:-0600
RDATE:20271107T020000
RDATE:20281105T020000
END:STANDARD
BEGIN:DAYLIGHT
TZNAME:CDT
DTSTART:20270314T020000
TZOFFSETFROM:-0600
TZOFFSETTO:-0500
RDATE:20280312T020000
END:DAYLIGHT
END:VTIMEZONE
BEGIN:VEVENT
UID:0989acab-c040-436f-90f1-8da86a634a0d
DTSTAMP:20260424T103839Z
DESCRIPTION:
DTSTART;TZID=America/Chicago:20270619T000000
DTEND;TZID=America/Chicago:20271127T235900
LOCATION:
SUMMARY:Recreational Activities
END:VEVENT
END:VCALENDAR
