BEGIN:VCALENDAR
VERSION:2.0
PRODID:-//miraajacademy.org//NONSGML kigkonsult.se iCalcreator 2.30.10//
CALSCALE:GREGORIAN
METHOD:PUBLISH
UID:6889da0a-e094-47ee-ba47-4e4131f8ef67
X-WR-CALDESC:
X-WR-RELCALID:35ce1a1fd4178b94a99766e482974821
X-WR-TIMEZONE:America/Chicago
BEGIN:VTIMEZONE
TZID:America/Chicago
BEGIN:STANDARD
TZNAME:CST
DTSTART:20261101T020000
TZOFFSETFROM:-0500
TZOFFSETTO:-0600
RDATE:20271107T020000
RDATE:20281105T020000
END:STANDARD
BEGIN:DAYLIGHT
TZNAME:CDT
DTSTART:20270314T020000
TZOFFSETFROM:-0600
TZOFFSETTO:-0500
RDATE:20280312T020000
END:DAYLIGHT
END:VTIMEZONE
BEGIN:VEVENT
UID:93a30424-8316-4755-a0fe-dc0fb939abe1
DTSTAMP:20260424T103755Z
DESCRIPTION:
DTSTART;TZID=America/Chicago:20270605T000000
DTEND;TZID=America/Chicago:20271113T235900
LOCATION:
SUMMARY:Recreational Activities
END:VEVENT
END:VCALENDAR
