BEGIN:VCALENDAR
VERSION:2.0
PRODID:-//miraajacademy.org//NONSGML kigkonsult.se iCalcreator 2.30.10//
CALSCALE:GREGORIAN
METHOD:PUBLISH
UID:fd7eba02-ca39-4fe3-9c71-26612737b9de
X-WR-CALDESC:
X-WR-RELCALID:d6ecb71c422a6576b8fc51bfac15a5ca
X-WR-TIMEZONE:America/Chicago
BEGIN:VTIMEZONE
TZID:America/Chicago
BEGIN:STANDARD
TZNAME:CST
DTSTART:20261101T020000
TZOFFSETFROM:-0500
TZOFFSETTO:-0600
RDATE:20271107T020000
RDATE:20281105T020000
END:STANDARD
BEGIN:DAYLIGHT
TZNAME:CDT
DTSTART:20270314T020000
TZOFFSETFROM:-0600
TZOFFSETTO:-0500
RDATE:20280312T020000
END:DAYLIGHT
END:VTIMEZONE
BEGIN:VEVENT
UID:aa3ffbcf-db9a-4269-898c-d1af74d1f5d6
DTSTAMP:20260424T090409Z
DESCRIPTION:
DTSTART;TZID=America/Chicago:20270515T000000
DTEND;TZID=America/Chicago:20271023T235900
LOCATION:
SUMMARY:Recreational Activities
END:VEVENT
END:VCALENDAR
