BEGIN:VCALENDAR
VERSION:2.0
PRODID:-//miraajacademy.org//NONSGML kigkonsult.se iCalcreator 2.30.10//
CALSCALE:GREGORIAN
METHOD:PUBLISH
UID:d7d20e12-4dbc-4420-9ce4-f4497fa0156f
X-WR-CALDESC:
X-WR-RELCALID:037c76b341d6bcb89767885f722aee83
X-WR-TIMEZONE:America/Chicago
BEGIN:VTIMEZONE
TZID:America/Chicago
BEGIN:STANDARD
TZNAME:CST
DTSTART:20261101T020000
TZOFFSETFROM:-0500
TZOFFSETTO:-0600
RDATE:20271107T020000
END:STANDARD
BEGIN:DAYLIGHT
TZNAME:CDT
DTSTART:20270314T020000
TZOFFSETFROM:-0600
TZOFFSETTO:-0500
RDATE:20280312T020000
END:DAYLIGHT
END:VTIMEZONE
BEGIN:VEVENT
UID:6dd343f6-56b2-4fc1-801f-0401f110207b
DTSTAMP:20260424T091806Z
DESCRIPTION:
DTSTART;TZID=America/Chicago:20270501T000000
DTEND;TZID=America/Chicago:20271009T235900
LOCATION:
SUMMARY:Recreational Activities
END:VEVENT
END:VCALENDAR
