BEGIN:VCALENDAR
VERSION:2.0
PRODID:-//miraajacademy.org//NONSGML kigkonsult.se iCalcreator 2.30.10//
CALSCALE:GREGORIAN
METHOD:PUBLISH
UID:a056f0ad-3c77-497c-9e9c-ecf9f2fa31c8
X-WR-CALDESC:
X-WR-RELCALID:43d208090a21af2663d3108c1288ff35
X-WR-TIMEZONE:America/Chicago
BEGIN:VTIMEZONE
TZID:America/Chicago
BEGIN:STANDARD
TZNAME:CST
DTSTART:20261101T020000
TZOFFSETFROM:-0500
TZOFFSETTO:-0600
RDATE:20271107T020000
END:STANDARD
BEGIN:DAYLIGHT
TZNAME:CDT
DTSTART:20270314T020000
TZOFFSETFROM:-0600
TZOFFSETTO:-0500
RDATE:20280312T020000
END:DAYLIGHT
END:VTIMEZONE
BEGIN:VEVENT
UID:d587a455-e6f6-45b8-a68a-4724fc440dc0
DTSTAMP:20260424T073845Z
DESCRIPTION:
DTSTART;TZID=America/Chicago:20270417T000000
DTEND;TZID=America/Chicago:20270925T235900
LOCATION:
SUMMARY:Recreational Activities
END:VEVENT
END:VCALENDAR
