BEGIN:VCALENDAR
VERSION:2.0
PRODID:-//miraajacademy.org//NONSGML kigkonsult.se iCalcreator 2.30.10//
CALSCALE:GREGORIAN
METHOD:PUBLISH
UID:aaf8aa48-806f-46eb-82a0-ce8a1eab3ad4
X-WR-CALDESC:
X-WR-RELCALID:e1c8bba4cb0de5cb9833d55207ed911d
X-WR-TIMEZONE:America/Chicago
BEGIN:VTIMEZONE
TZID:America/Chicago
BEGIN:STANDARD
TZNAME:CST
DTSTART:20261101T020000
TZOFFSETFROM:-0500
TZOFFSETTO:-0600
RDATE:20271107T020000
END:STANDARD
BEGIN:DAYLIGHT
TZNAME:CDT
DTSTART:20270314T020000
TZOFFSETFROM:-0600
TZOFFSETTO:-0500
RDATE:20280312T020000
END:DAYLIGHT
END:VTIMEZONE
BEGIN:VEVENT
UID:c03955bc-03c8-452e-9d5c-7c1f6252084d
DTSTAMP:20260424T073718Z
DESCRIPTION:
DTSTART;TZID=America/Chicago:20270403T000000
DTEND;TZID=America/Chicago:20270911T235900
LOCATION:
SUMMARY:Recreational Activities
END:VEVENT
END:VCALENDAR
