BEGIN:VCALENDAR
VERSION:2.0
PRODID:-//miraajacademy.org//NONSGML kigkonsult.se iCalcreator 2.30.10//
CALSCALE:GREGORIAN
METHOD:PUBLISH
UID:ee9a3acc-9a7b-4ef9-bd46-1c712eab5e12
X-WR-CALDESC:
X-WR-RELCALID:5ad95d96988e03177889cb321b53ad8e
X-WR-TIMEZONE:America/Chicago
BEGIN:VTIMEZONE
TZID:America/Chicago
BEGIN:STANDARD
TZNAME:CST
DTSTART:20261101T020000
TZOFFSETFROM:-0500
TZOFFSETTO:-0600
RDATE:20271107T020000
END:STANDARD
BEGIN:DAYLIGHT
TZNAME:CDT
DTSTART:20270314T020000
TZOFFSETFROM:-0600
TZOFFSETTO:-0500
RDATE:20280312T020000
END:DAYLIGHT
END:VTIMEZONE
BEGIN:VEVENT
UID:22be3b3b-fba3-4fc4-bd3d-c338ff4b16df
DTSTAMP:20260424T060346Z
DESCRIPTION:
DTSTART;TZID=America/Chicago:20270320T000000
DTEND;TZID=America/Chicago:20270828T235900
LOCATION:
SUMMARY:Recreational Activities
END:VEVENT
END:VCALENDAR
