BEGIN:VCALENDAR
VERSION:2.0
PRODID:-//miraajacademy.org//NONSGML kigkonsult.se iCalcreator 2.30.10//
CALSCALE:GREGORIAN
METHOD:PUBLISH
UID:73e4069e-f496-430f-b40f-ef95d0823cc7
X-WR-CALDESC:
X-WR-RELCALID:69b74c1972c1d3a6bc6cb1a072038c50
X-WR-TIMEZONE:America/Chicago
BEGIN:VTIMEZONE
TZID:America/Chicago
BEGIN:STANDARD
TZNAME:CST
DTSTART:20261101T020000
TZOFFSETFROM:-0500
TZOFFSETTO:-0600
RDATE:20271107T020000
END:STANDARD
BEGIN:DAYLIGHT
TZNAME:CDT
DTSTART:20260308T020000
TZOFFSETFROM:-0600
TZOFFSETTO:-0500
RDATE:20270314T020000
RDATE:20280312T020000
END:DAYLIGHT
END:VTIMEZONE
BEGIN:VEVENT
UID:fe95f0a0-7c17-46eb-90c1-afcf98d269f4
DTSTAMP:20260424T043225Z
DESCRIPTION:
DTSTART;TZID=America/Chicago:20270206T000000
DTEND;TZID=America/Chicago:20270717T235900
LOCATION:
SUMMARY:Recreational Activities
END:VEVENT
END:VCALENDAR
