BEGIN:VCALENDAR
VERSION:2.0
PRODID:-//miraajacademy.org//NONSGML kigkonsult.se iCalcreator 2.30.10//
CALSCALE:GREGORIAN
METHOD:PUBLISH
UID:8b5d7044-a942-4fe9-aac8-04ee868f24a3
X-WR-CALDESC:
X-WR-RELCALID:3f786afebc71807b1e52c899dae11699
X-WR-TIMEZONE:America/Chicago
BEGIN:VTIMEZONE
TZID:America/Chicago
BEGIN:STANDARD
TZNAME:CST
DTSTART:20261101T020000
TZOFFSETFROM:-0500
TZOFFSETTO:-0600
RDATE:20271107T020000
END:STANDARD
BEGIN:DAYLIGHT
TZNAME:CDT
DTSTART:20260308T020000
TZOFFSETFROM:-0600
TZOFFSETTO:-0500
RDATE:20270314T020000
RDATE:20280312T020000
END:DAYLIGHT
END:VTIMEZONE
BEGIN:VEVENT
UID:119a3ee1-4b07-478d-9244-aa52a3a0eeed
DTSTAMP:20260424T024605Z
DESCRIPTION:
DTSTART;TZID=America/Chicago:20270116T000000
DTEND;TZID=America/Chicago:20270626T235900
LOCATION:
SUMMARY:Recreational Activities
END:VEVENT
END:VCALENDAR
