BEGIN:VCALENDAR
VERSION:2.0
PRODID:-//miraajacademy.org//NONSGML kigkonsult.se iCalcreator 2.30.10//
CALSCALE:GREGORIAN
METHOD:PUBLISH
UID:43a9f39b-8b60-4b23-9939-3be5ec1c705b
X-WR-CALDESC:
X-WR-RELCALID:71dbf8c92aff5dccdb4fdb551fcf0f37
X-WR-TIMEZONE:America/Chicago
BEGIN:VTIMEZONE
TZID:America/Chicago
BEGIN:STANDARD
TZNAME:CST
DTSTART:20261101T020000
TZOFFSETFROM:-0500
TZOFFSETTO:-0600
RDATE:20271107T020000
END:STANDARD
BEGIN:DAYLIGHT
TZNAME:CDT
DTSTART:20260308T020000
TZOFFSETFROM:-0600
TZOFFSETTO:-0500
RDATE:20270314T020000
RDATE:20280312T020000
END:DAYLIGHT
END:VTIMEZONE
BEGIN:VEVENT
UID:ffec5daa-9805-4d1c-b626-23537c16b59e
DTSTAMP:20260424T013007Z
DESCRIPTION:
DTSTART;TZID=America/Chicago:20261219T000000
DTEND;TZID=America/Chicago:20270529T235900
LOCATION:
SUMMARY:Recreational Activities
END:VEVENT
END:VCALENDAR
