BEGIN:VCALENDAR
VERSION:2.0
PRODID:-//miraajacademy.org//NONSGML kigkonsult.se iCalcreator 2.30.10//
CALSCALE:GREGORIAN
METHOD:PUBLISH
UID:b1df0c96-a2a6-4ce5-b33f-1bd3fe2a99ad
X-WR-CALDESC:
X-WR-RELCALID:eb8381fd1e826cefd25b570d2845aec6
X-WR-TIMEZONE:America/Chicago
BEGIN:VTIMEZONE
TZID:America/Chicago
BEGIN:STANDARD
TZNAME:CST
DTSTART:20261101T020000
TZOFFSETFROM:-0500
TZOFFSETTO:-0600
RDATE:20271107T020000
END:STANDARD
BEGIN:DAYLIGHT
TZNAME:CDT
DTSTART:20260308T020000
TZOFFSETFROM:-0600
TZOFFSETTO:-0500
RDATE:20270314T020000
RDATE:20280312T020000
END:DAYLIGHT
END:VTIMEZONE
BEGIN:VEVENT
UID:f109ef88-d240-4e02-be09-a6bd90707308
DTSTAMP:20260424T013152Z
DESCRIPTION:
DTSTART;TZID=America/Chicago:20261205T000000
DTEND;TZID=America/Chicago:20270515T235900
LOCATION:
SUMMARY:Recreational Activities
END:VEVENT
END:VCALENDAR
