BEGIN:VCALENDAR
VERSION:2.0
PRODID:-//miraajacademy.org//NONSGML kigkonsult.se iCalcreator 2.30.10//
CALSCALE:GREGORIAN
METHOD:PUBLISH
UID:c714448c-2e35-49e3-b84b-53bc59c8dd36
X-WR-CALDESC:
X-WR-RELCALID:c28b1add7c82b6fd2b60f0891b332582
X-WR-TIMEZONE:America/Chicago
BEGIN:VTIMEZONE
TZID:America/Chicago
BEGIN:STANDARD
TZNAME:CST
DTSTART:20261101T020000
TZOFFSETFROM:-0500
TZOFFSETTO:-0600
RDATE:20271107T020000
END:STANDARD
BEGIN:DAYLIGHT
TZNAME:CDT
DTSTART:20260308T020000
TZOFFSETFROM:-0600
TZOFFSETTO:-0500
RDATE:20270314T020000
RDATE:20280312T020000
END:DAYLIGHT
END:VTIMEZONE
BEGIN:VEVENT
UID:836f881e-85c9-4759-a91b-6dd5b5e7011f
DTSTAMP:20260423T235901Z
DESCRIPTION:
DTSTART;TZID=America/Chicago:20261121T000000
DTEND;TZID=America/Chicago:20270501T235900
LOCATION:
SUMMARY:Recreational Activities
END:VEVENT
END:VCALENDAR
