BEGIN:VCALENDAR
VERSION:2.0
PRODID:-//miraajacademy.org//NONSGML kigkonsult.se iCalcreator 2.30.10//
CALSCALE:GREGORIAN
METHOD:PUBLISH
UID:812f3017-c4ac-4ba3-a732-fd5f00c497a1
X-WR-CALDESC:
X-WR-RELCALID:889e6222460438cd9665f471dcf9eaaa
X-WR-TIMEZONE:America/Chicago
BEGIN:VTIMEZONE
TZID:America/Chicago
BEGIN:STANDARD
TZNAME:CST
DTSTART:20261101T020000
TZOFFSETFROM:-0500
TZOFFSETTO:-0600
RDATE:20271107T020000
END:STANDARD
BEGIN:DAYLIGHT
TZNAME:CDT
DTSTART:20260308T020000
TZOFFSETFROM:-0600
TZOFFSETTO:-0500
RDATE:20270314T020000
RDATE:20280312T020000
END:DAYLIGHT
END:VTIMEZONE
BEGIN:VEVENT
UID:36788cad-c93d-4e81-924b-cd9f1cf56d3a
DTSTAMP:20260423T235721Z
DESCRIPTION:
DTSTART;TZID=America/Chicago:20261107T000000
DTEND;TZID=America/Chicago:20270417T235900
LOCATION:
SUMMARY:Recreational Activities
END:VEVENT
END:VCALENDAR
