BEGIN:VCALENDAR
VERSION:2.0
PRODID:-//miraajacademy.org//NONSGML kigkonsult.se iCalcreator 2.30.10//
CALSCALE:GREGORIAN
METHOD:PUBLISH
UID:3952cdf7-a2e9-426b-bd98-ad38a9b2ac87
X-WR-CALDESC:
X-WR-RELCALID:1a38d41a12caa764e02dc512ba25344c
X-WR-TIMEZONE:America/Chicago
BEGIN:VTIMEZONE
TZID:America/Chicago
BEGIN:STANDARD
TZNAME:CST
DTSTART:20251102T020000
TZOFFSETFROM:-0500
TZOFFSETTO:-0600
RDATE:20261101T020000
RDATE:20271107T020000
END:STANDARD
BEGIN:DAYLIGHT
TZNAME:CDT
DTSTART:20260308T020000
TZOFFSETFROM:-0600
TZOFFSETTO:-0500
RDATE:20270314T020000
RDATE:20280312T020000
END:DAYLIGHT
END:VTIMEZONE
BEGIN:VEVENT
UID:5e2606fd-2199-491e-a02b-ed959004f35a
DTSTAMP:20260423T222219Z
DESCRIPTION:
DTSTART;TZID=America/Chicago:20261017T000000
DTEND;TZID=America/Chicago:20270327T235900
LOCATION:
SUMMARY:Recreational Activities
END:VEVENT
END:VCALENDAR
