BEGIN:VCALENDAR
VERSION:2.0
PRODID:-//miraajacademy.org//NONSGML kigkonsult.se iCalcreator 2.30.10//
CALSCALE:GREGORIAN
METHOD:PUBLISH
UID:2da313e1-a879-424f-ad99-d787d2f7b41c
X-WR-CALDESC:
X-WR-RELCALID:adf0ce031e034aab7b6d90d7b700692a
X-WR-TIMEZONE:America/Chicago
BEGIN:VTIMEZONE
TZID:America/Chicago
BEGIN:STANDARD
TZNAME:CST
DTSTART:20251102T020000
TZOFFSETFROM:-0500
TZOFFSETTO:-0600
RDATE:20261101T020000
RDATE:20271107T020000
END:STANDARD
BEGIN:DAYLIGHT
TZNAME:CDT
DTSTART:20260308T020000
TZOFFSETFROM:-0600
TZOFFSETTO:-0500
RDATE:20270314T020000
RDATE:20280312T020000
END:DAYLIGHT
END:VTIMEZONE
BEGIN:VEVENT
UID:72446a3d-1d62-42dd-9f6d-fd4f66959386
DTSTAMP:20260423T204918Z
DESCRIPTION:
DTSTART;TZID=America/Chicago:20260919T000000
DTEND;TZID=America/Chicago:20270227T235900
LOCATION:
SUMMARY:Recreational Activities
END:VEVENT
END:VCALENDAR
