BEGIN:VCALENDAR
VERSION:2.0
PRODID:-//miraajacademy.org//NONSGML kigkonsult.se iCalcreator 2.30.10//
CALSCALE:GREGORIAN
METHOD:PUBLISH
UID:823bc4b1-f684-4caf-bf28-f517dc67c8ba
X-WR-CALDESC:
X-WR-RELCALID:5a09e3ec57d7347821fc96bf91e922c5
X-WR-TIMEZONE:America/Chicago
BEGIN:VTIMEZONE
TZID:America/Chicago
BEGIN:STANDARD
TZNAME:CST
DTSTART:20251102T020000
TZOFFSETFROM:-0500
TZOFFSETTO:-0600
RDATE:20261101T020000
RDATE:20271107T020000
END:STANDARD
BEGIN:DAYLIGHT
TZNAME:CDT
DTSTART:20260308T020000
TZOFFSETFROM:-0600
TZOFFSETTO:-0500
RDATE:20270314T020000
END:DAYLIGHT
END:VTIMEZONE
BEGIN:VEVENT
UID:57a5d6b6-cf49-453b-a93e-dcab8cf5b95f
DTSTAMP:20260423T205817Z
DESCRIPTION:
DTSTART;TZID=America/Chicago:20260905T000000
DTEND;TZID=America/Chicago:20270213T235900
LOCATION:
SUMMARY:Recreational Activities
END:VEVENT
END:VCALENDAR
