BEGIN:VCALENDAR
VERSION:2.0
PRODID:-//miraajacademy.org//NONSGML kigkonsult.se iCalcreator 2.30.10//
CALSCALE:GREGORIAN
METHOD:PUBLISH
UID:3eafc75e-42db-410a-bf93-c12b7f1c37db
X-WR-CALDESC:
X-WR-RELCALID:2eaeb088b2f201ef76b5c635221a3909
X-WR-TIMEZONE:America/Chicago
BEGIN:VTIMEZONE
TZID:America/Chicago
BEGIN:STANDARD
TZNAME:CST
DTSTART:20251102T020000
TZOFFSETFROM:-0500
TZOFFSETTO:-0600
RDATE:20261101T020000
RDATE:20271107T020000
END:STANDARD
BEGIN:DAYLIGHT
TZNAME:CDT
DTSTART:20260308T020000
TZOFFSETFROM:-0600
TZOFFSETTO:-0500
RDATE:20270314T020000
END:DAYLIGHT
END:VTIMEZONE
BEGIN:VEVENT
UID:4143f8fb-a40a-4ccc-86c3-f3d51ad3b319
DTSTAMP:20260423T194133Z
DESCRIPTION:
DTSTART;TZID=America/Chicago:20260815T000000
DTEND;TZID=America/Chicago:20270123T235900
LOCATION:
SUMMARY:Recreational Activities
END:VEVENT
END:VCALENDAR
