BEGIN:VCALENDAR
VERSION:2.0
PRODID:-//miraajacademy.org//NONSGML kigkonsult.se iCalcreator 2.30.10//
CALSCALE:GREGORIAN
METHOD:PUBLISH
UID:0997434d-2e45-4ba1-b852-a1b8fe56af07
X-WR-CALDESC:
X-WR-RELCALID:c7497a356299851fdd0eda52168a5b3c
X-WR-TIMEZONE:America/Chicago
BEGIN:VTIMEZONE
TZID:America/Chicago
BEGIN:STANDARD
TZNAME:CST
DTSTART:20251102T020000
TZOFFSETFROM:-0500
TZOFFSETTO:-0600
RDATE:20261101T020000
RDATE:20271107T020000
END:STANDARD
BEGIN:DAYLIGHT
TZNAME:CDT
DTSTART:20260308T020000
TZOFFSETFROM:-0600
TZOFFSETTO:-0500
RDATE:20270314T020000
END:DAYLIGHT
END:VTIMEZONE
BEGIN:VEVENT
UID:1e92ae28-1400-46a0-8394-07bbf63c379c
DTSTAMP:20260423T193611Z
DESCRIPTION:
DTSTART;TZID=America/Chicago:20260801T000000
DTEND;TZID=America/Chicago:20270109T235900
LOCATION:
SUMMARY:Recreational Activities
END:VEVENT
END:VCALENDAR
