BEGIN:VCALENDAR
VERSION:2.0
PRODID:-//miraajacademy.org//NONSGML kigkonsult.se iCalcreator 2.30.10//
CALSCALE:GREGORIAN
METHOD:PUBLISH
UID:e1fa6b7c-a4a0-42fb-ac9e-f9dfe5bac7cb
X-WR-CALDESC:
X-WR-RELCALID:45103a8098f119e227bc2748ae5d5e58
X-WR-TIMEZONE:America/Chicago
BEGIN:VTIMEZONE
TZID:America/Chicago
BEGIN:STANDARD
TZNAME:CST
DTSTART:20251102T020000
TZOFFSETFROM:-0500
TZOFFSETTO:-0600
RDATE:20261101T020000
RDATE:20271107T020000
END:STANDARD
BEGIN:DAYLIGHT
TZNAME:CDT
DTSTART:20260308T020000
TZOFFSETFROM:-0600
TZOFFSETTO:-0500
RDATE:20270314T020000
END:DAYLIGHT
END:VTIMEZONE
BEGIN:VEVENT
UID:f97fef02-8ccb-4a19-95c1-904da444b93c
DTSTAMP:20260423T180358Z
DESCRIPTION:
DTSTART;TZID=America/Chicago:20260704T000000
DTEND;TZID=America/Chicago:20261212T235900
LOCATION:
SUMMARY:Recreational Activities
END:VEVENT
END:VCALENDAR
