BEGIN:VCALENDAR
VERSION:2.0
PRODID:-//miraajacademy.org//NONSGML kigkonsult.se iCalcreator 2.30.10//
CALSCALE:GREGORIAN
METHOD:PUBLISH
UID:827ba6dd-be2c-4231-b3d4-ca02146b6b9b
X-WR-CALDESC:
X-WR-RELCALID:d3c37b746eeac65ddef1ff1506747d32
X-WR-TIMEZONE:America/Chicago
BEGIN:VTIMEZONE
TZID:America/Chicago
BEGIN:STANDARD
TZNAME:CST
DTSTART:20251102T020000
TZOFFSETFROM:-0500
TZOFFSETTO:-0600
RDATE:20261101T020000
RDATE:20271107T020000
END:STANDARD
BEGIN:DAYLIGHT
TZNAME:CDT
DTSTART:20260308T020000
TZOFFSETFROM:-0600
TZOFFSETTO:-0500
RDATE:20270314T020000
END:DAYLIGHT
END:VTIMEZONE
BEGIN:VEVENT
UID:be59e92b-2364-4d16-b782-56f3105a0a3d
DTSTAMP:20260423T161453Z
DESCRIPTION:
DTSTART;TZID=America/Chicago:20260620T000000
DTEND;TZID=America/Chicago:20261128T235900
LOCATION:
SUMMARY:Recreational Activities
END:VEVENT
END:VCALENDAR
