BEGIN:VCALENDAR
VERSION:2.0
PRODID:-//miraajacademy.org//NONSGML kigkonsult.se iCalcreator 2.30.10//
CALSCALE:GREGORIAN
METHOD:PUBLISH
UID:b587d89d-0f9f-4e2c-a259-31e17992d519
X-WR-CALDESC:
X-WR-RELCALID:9f08da8b52a3ff8c66b922a26817fc63
X-WR-TIMEZONE:America/Chicago
BEGIN:VTIMEZONE
TZID:America/Chicago
BEGIN:STANDARD
TZNAME:CST
DTSTART:20251102T020000
TZOFFSETFROM:-0500
TZOFFSETTO:-0600
RDATE:20261101T020000
RDATE:20271107T020000
END:STANDARD
BEGIN:DAYLIGHT
TZNAME:CDT
DTSTART:20260308T020000
TZOFFSETFROM:-0600
TZOFFSETTO:-0500
RDATE:20270314T020000
END:DAYLIGHT
END:VTIMEZONE
BEGIN:VEVENT
UID:5687afb3-17fc-45dd-b579-3f786369fb16
DTSTAMP:20260423T150835Z
DESCRIPTION:
DTSTART;TZID=America/Chicago:20260516T000000
DTEND;TZID=America/Chicago:20261024T235900
LOCATION:
SUMMARY:Recreational Activities
END:VEVENT
END:VCALENDAR
