BEGIN:VCALENDAR
VERSION:2.0
PRODID:-//miraajacademy.org//NONSGML kigkonsult.se iCalcreator 2.30.10//
CALSCALE:GREGORIAN
METHOD:PUBLISH
UID:244bc05a-3bf4-4263-8069-978140d55a63
X-WR-CALDESC:
X-WR-RELCALID:e131b516619f16f4439ac4aadd5e2f43
X-WR-TIMEZONE:America/Chicago
BEGIN:VTIMEZONE
TZID:America/Chicago
BEGIN:STANDARD
TZNAME:CST
DTSTART:20251102T020000
TZOFFSETFROM:-0500
TZOFFSETTO:-0600
RDATE:20261101T020000
END:STANDARD
BEGIN:DAYLIGHT
TZNAME:CDT
DTSTART:20260308T020000
TZOFFSETFROM:-0600
TZOFFSETTO:-0500
RDATE:20270314T020000
END:DAYLIGHT
END:VTIMEZONE
BEGIN:VEVENT
UID:3635da13-1478-4c1e-9f7d-370ace09816d
DTSTAMP:20260423T150221Z
DESCRIPTION:
DTSTART;TZID=America/Chicago:20260502T000000
DTEND;TZID=America/Chicago:20261010T235900
LOCATION:
SUMMARY:Recreational Activities
END:VEVENT
END:VCALENDAR
