BEGIN:VCALENDAR
VERSION:2.0
PRODID:-//miraajacademy.org//NONSGML kigkonsult.se iCalcreator 2.30.10//
CALSCALE:GREGORIAN
METHOD:PUBLISH
UID:1e6f3aeb-adb7-4c31-b37c-48b55bcd7861
X-WR-CALDESC:
X-WR-RELCALID:5e82a707476e38eb55641e9e5686ceed
X-WR-TIMEZONE:America/Chicago
BEGIN:VTIMEZONE
TZID:America/Chicago
BEGIN:STANDARD
TZNAME:CST
DTSTART:20251102T020000
TZOFFSETFROM:-0500
TZOFFSETTO:-0600
RDATE:20261101T020000
END:STANDARD
BEGIN:DAYLIGHT
TZNAME:CDT
DTSTART:20260308T020000
TZOFFSETFROM:-0600
TZOFFSETTO:-0500
RDATE:20270314T020000
END:DAYLIGHT
END:VTIMEZONE
BEGIN:VEVENT
UID:258f4e2b-0a23-4c01-8caa-d17f7b517584
DTSTAMP:20260423T135157Z
DESCRIPTION:
DTSTART;TZID=America/Chicago:20260418T000000
DTEND;TZID=America/Chicago:20260926T235900
LOCATION:
SUMMARY:Recreational Activities
END:VEVENT
END:VCALENDAR
