BEGIN:VCALENDAR
VERSION:2.0
PRODID:-//miraajacademy.org//NONSGML kigkonsult.se iCalcreator 2.30.10//
CALSCALE:GREGORIAN
METHOD:PUBLISH
UID:16b821db-0d36-4c81-8ade-9d46802e0029
X-WR-CALDESC:
X-WR-RELCALID:4c0fbc0cf30e0260c8410fe31ade6647
X-WR-TIMEZONE:America/Chicago
BEGIN:VTIMEZONE
TZID:America/Chicago
BEGIN:STANDARD
TZNAME:CST
DTSTART:20251102T020000
TZOFFSETFROM:-0500
TZOFFSETTO:-0600
RDATE:20261101T020000
END:STANDARD
BEGIN:DAYLIGHT
TZNAME:CDT
DTSTART:20260308T020000
TZOFFSETFROM:-0600
TZOFFSETTO:-0500
RDATE:20270314T020000
END:DAYLIGHT
END:VTIMEZONE
BEGIN:VEVENT
UID:5ec028ed-cfb7-42a6-b772-dd494376f84e
DTSTAMP:20260423T150618Z
DESCRIPTION:
DTSTART;TZID=America/Chicago:20260321T000000
DTEND;TZID=America/Chicago:20260829T235900
LOCATION:
SUMMARY:Recreational Activities
END:VEVENT
END:VCALENDAR
