BEGIN:VCALENDAR
VERSION:2.0
PRODID:-//miraajacademy.org//NONSGML kigkonsult.se iCalcreator 2.30.10//
CALSCALE:GREGORIAN
METHOD:PUBLISH
UID:95994f90-d4b1-4292-ad53-a2209a95b362
X-WR-CALDESC:
X-WR-RELCALID:8ff00b46129ad2fdfaaed09b4d08f5c6
X-WR-TIMEZONE:America/Chicago
BEGIN:VTIMEZONE
TZID:America/Chicago
BEGIN:STANDARD
TZNAME:CST
DTSTART:20251102T020000
TZOFFSETFROM:-0500
TZOFFSETTO:-0600
RDATE:20261101T020000
END:STANDARD
BEGIN:DAYLIGHT
TZNAME:CDT
DTSTART:20250309T020000
TZOFFSETFROM:-0600
TZOFFSETTO:-0500
RDATE:20260308T020000
RDATE:20270314T020000
END:DAYLIGHT
END:VTIMEZONE
BEGIN:VEVENT
UID:e4b74918-191c-490c-af0c-db35a7817ea2
DTSTAMP:20260423T150438Z
DESCRIPTION:
DTSTART;TZID=America/Chicago:20260307T000000
DTEND;TZID=America/Chicago:20260815T235900
LOCATION:
SUMMARY:Recreational Activities
END:VEVENT
END:VCALENDAR
