BEGIN:VCALENDAR
VERSION:2.0
PRODID:-//miraajacademy.org//NONSGML kigkonsult.se iCalcreator 2.30.10//
CALSCALE:GREGORIAN
METHOD:PUBLISH
UID:49b48dce-1045-4143-8d67-021cdd08d08c
X-WR-CALDESC:
X-WR-RELCALID:f3413189ea29cf7ad18459beb6f42ee2
X-WR-TIMEZONE:America/Chicago
BEGIN:VTIMEZONE
TZID:America/Chicago
BEGIN:STANDARD
TZNAME:CST
DTSTART:20251102T020000
TZOFFSETFROM:-0500
TZOFFSETTO:-0600
RDATE:20261101T020000
END:STANDARD
BEGIN:DAYLIGHT
TZNAME:CDT
DTSTART:20250309T020000
TZOFFSETFROM:-0600
TZOFFSETTO:-0500
RDATE:20260308T020000
RDATE:20270314T020000
END:DAYLIGHT
END:VTIMEZONE
BEGIN:VEVENT
UID:ee814186-f7f8-48fc-a98a-6f6828a0045d
DTSTAMP:20260423T163031Z
DESCRIPTION:
DTSTART;TZID=America/Chicago:20260221T000000
DTEND;TZID=America/Chicago:20260801T235900
LOCATION:
SUMMARY:Recreational Activities
END:VEVENT
END:VCALENDAR
