BEGIN:VCALENDAR
VERSION:2.0
PRODID:-//miraajacademy.org//NONSGML kigkonsult.se iCalcreator 2.30.10//
CALSCALE:GREGORIAN
METHOD:PUBLISH
UID:6eb0761c-f8b7-4513-9102-e0647bd50588
X-WR-CALDESC:
X-WR-RELCALID:3845202603c832aaf852163c9ddb388d
X-WR-TIMEZONE:America/Chicago
BEGIN:VTIMEZONE
TZID:America/Chicago
BEGIN:STANDARD
TZNAME:CST
DTSTART:20251102T020000
TZOFFSETFROM:-0500
TZOFFSETTO:-0600
RDATE:20261101T020000
END:STANDARD
BEGIN:DAYLIGHT
TZNAME:CDT
DTSTART:20250309T020000
TZOFFSETFROM:-0600
TZOFFSETTO:-0500
RDATE:20260308T020000
RDATE:20270314T020000
END:DAYLIGHT
END:VTIMEZONE
BEGIN:VEVENT
UID:b6ddeba7-fe93-4e17-b112-b723f0d05e43
DTSTAMP:20260423T175046Z
DESCRIPTION:
DTSTART;TZID=America/Chicago:20260117T000000
DTEND;TZID=America/Chicago:20260627T235900
LOCATION:
SUMMARY:Recreational Activities
END:VEVENT
END:VCALENDAR
