BEGIN:VCALENDAR
VERSION:2.0
PRODID:-//miraajacademy.org//NONSGML kigkonsult.se iCalcreator 2.30.10//
CALSCALE:GREGORIAN
METHOD:PUBLISH
UID:ee693867-7ed8-46de-98d9-12c08bcf423b
X-WR-CALDESC:
X-WR-RELCALID:6c87ca67526658c946dc3e8f61bc284b
X-WR-TIMEZONE:America/Chicago
BEGIN:VTIMEZONE
TZID:America/Chicago
BEGIN:STANDARD
TZNAME:CST
DTSTART:20251102T020000
TZOFFSETFROM:-0500
TZOFFSETTO:-0600
RDATE:20261101T020000
END:STANDARD
BEGIN:DAYLIGHT
TZNAME:CDT
DTSTART:20250309T020000
TZOFFSETFROM:-0600
TZOFFSETTO:-0500
RDATE:20260308T020000
RDATE:20270314T020000
END:DAYLIGHT
END:VTIMEZONE
BEGIN:VEVENT
UID:747deccc-4a76-438b-a77f-8d352663b784
DTSTAMP:20260423T191510Z
DESCRIPTION:
DTSTART;TZID=America/Chicago:20251220T000000
DTEND;TZID=America/Chicago:20260530T235900
LOCATION:
SUMMARY:Recreational Activities
END:VEVENT
END:VCALENDAR
