BEGIN:VCALENDAR
VERSION:2.0
PRODID:-//miraajacademy.org//NONSGML kigkonsult.se iCalcreator 2.30.10//
CALSCALE:GREGORIAN
METHOD:PUBLISH
UID:b5e12324-9277-4745-863e-edf71742f9be
X-WR-CALDESC:
X-WR-RELCALID:7e7a8f5252f52a06c652ba1d5ef04555
X-WR-TIMEZONE:America/Chicago
BEGIN:VTIMEZONE
TZID:America/Chicago
BEGIN:STANDARD
TZNAME:CST
DTSTART:20251102T020000
TZOFFSETFROM:-0500
TZOFFSETTO:-0600
RDATE:20261101T020000
END:STANDARD
BEGIN:DAYLIGHT
TZNAME:CDT
DTSTART:20250309T020000
TZOFFSETFROM:-0600
TZOFFSETTO:-0500
RDATE:20260308T020000
RDATE:20270314T020000
END:DAYLIGHT
END:VTIMEZONE
BEGIN:VEVENT
UID:e7cf0389-945e-41d1-8387-973d71ad379b
DTSTAMP:20260423T191948Z
DESCRIPTION:
DTSTART;TZID=America/Chicago:20251206T000000
DTEND;TZID=America/Chicago:20260516T235900
LOCATION:
SUMMARY:Recreational Activities
END:VEVENT
END:VCALENDAR
