BEGIN:VCALENDAR
VERSION:2.0
PRODID:-//miraajacademy.org//NONSGML kigkonsult.se iCalcreator 2.30.10//
CALSCALE:GREGORIAN
METHOD:PUBLISH
UID:bf4bc600-d797-4f37-949d-bf7d53090847
X-WR-CALDESC:
X-WR-RELCALID:02a2f36fbebcd0e83c07cc9ff2bd9466
X-WR-TIMEZONE:America/Chicago
BEGIN:VTIMEZONE
TZID:America/Chicago
BEGIN:STANDARD
TZNAME:CST
DTSTART:20251102T020000
TZOFFSETFROM:-0500
TZOFFSETTO:-0600
RDATE:20261101T020000
END:STANDARD
BEGIN:DAYLIGHT
TZNAME:CDT
DTSTART:20250309T020000
TZOFFSETFROM:-0600
TZOFFSETTO:-0500
RDATE:20260308T020000
RDATE:20270314T020000
END:DAYLIGHT
END:VTIMEZONE
BEGIN:VEVENT
UID:fcd2ee3a-49fd-41c9-abdc-2d8885ff4e1f
DTSTAMP:20260423T204337Z
DESCRIPTION:
DTSTART;TZID=America/Chicago:20251115T000000
DTEND;TZID=America/Chicago:20260425T235900
LOCATION:
SUMMARY:Recreational Activities
END:VEVENT
END:VCALENDAR
