BEGIN:VCALENDAR
VERSION:2.0
PRODID:-//miraajacademy.org//NONSGML kigkonsult.se iCalcreator 2.30.10//
CALSCALE:GREGORIAN
METHOD:PUBLISH
UID:2bd9833b-8008-48d4-b7be-75c0ed7cb2b2
X-WR-CALDESC:
X-WR-RELCALID:6bf131db97281f2aa51d19fd5015d9fd
X-WR-TIMEZONE:America/Chicago
BEGIN:VTIMEZONE
TZID:America/Chicago
BEGIN:STANDARD
TZNAME:CST
DTSTART:20241103T020000
TZOFFSETFROM:-0500
TZOFFSETTO:-0600
RDATE:20251102T020000
RDATE:20261101T020000
END:STANDARD
BEGIN:DAYLIGHT
TZNAME:CDT
DTSTART:20250309T020000
TZOFFSETFROM:-0600
TZOFFSETTO:-0500
RDATE:20260308T020000
RDATE:20270314T020000
END:DAYLIGHT
END:VTIMEZONE
BEGIN:VEVENT
UID:21a74600-bcf1-41e5-b0c9-f33bf7e18976
DTSTAMP:20260423T204836Z
DESCRIPTION:
DTSTART;TZID=America/Chicago:20251101T000000
DTEND;TZID=America/Chicago:20260411T235900
LOCATION:
SUMMARY:Recreational Activities
END:VEVENT
END:VCALENDAR
