BEGIN:VCALENDAR
VERSION:2.0
PRODID:-//miraajacademy.org//NONSGML kigkonsult.se iCalcreator 2.30.10//
CALSCALE:GREGORIAN
METHOD:PUBLISH
UID:d7768a90-526e-459e-8dba-d4fe5007b6d0
X-WR-CALDESC:
X-WR-RELCALID:76fc28ef3f1fe2e743c5afd3be4eacda
X-WR-TIMEZONE:America/Chicago
BEGIN:VTIMEZONE
TZID:America/Chicago
BEGIN:STANDARD
TZNAME:CST
DTSTART:20241103T020000
TZOFFSETFROM:-0500
TZOFFSETTO:-0600
RDATE:20251102T020000
RDATE:20261101T020000
END:STANDARD
BEGIN:DAYLIGHT
TZNAME:CDT
DTSTART:20250309T020000
TZOFFSETFROM:-0600
TZOFFSETTO:-0500
RDATE:20260308T020000
RDATE:20270314T020000
END:DAYLIGHT
END:VTIMEZONE
BEGIN:VEVENT
UID:c7f9fcf8-d501-49ed-8716-ff3847c71c64
DTSTAMP:20260423T221928Z
DESCRIPTION:
DTSTART;TZID=America/Chicago:20251018T000000
DTEND;TZID=America/Chicago:20260328T235900
LOCATION:
SUMMARY:Recreational Activities
END:VEVENT
END:VCALENDAR
