BEGIN:VCALENDAR
VERSION:2.0
PRODID:-//miraajacademy.org//NONSGML kigkonsult.se iCalcreator 2.30.10//
CALSCALE:GREGORIAN
METHOD:PUBLISH
UID:677f9e88-5748-43e2-9021-48716bff943c
X-WR-CALDESC:
X-WR-RELCALID:a22257708399143d4dd5943f6f89befb
X-WR-TIMEZONE:America/Chicago
BEGIN:VTIMEZONE
TZID:America/Chicago
BEGIN:STANDARD
TZNAME:CST
DTSTART:20241103T020000
TZOFFSETFROM:-0500
TZOFFSETTO:-0600
RDATE:20251102T020000
RDATE:20261101T020000
END:STANDARD
BEGIN:DAYLIGHT
TZNAME:CDT
DTSTART:20250309T020000
TZOFFSETFROM:-0600
TZOFFSETTO:-0500
RDATE:20260308T020000
RDATE:20270314T020000
END:DAYLIGHT
END:VTIMEZONE
BEGIN:VEVENT
UID:a2fba777-fb42-4581-892d-5ba4eeb56734
DTSTAMP:20260423T234707Z
DESCRIPTION:
DTSTART;TZID=America/Chicago:20250920T000000
DTEND;TZID=America/Chicago:20260228T235900
LOCATION:
SUMMARY:Recreational Activities
END:VEVENT
END:VCALENDAR
