BEGIN:VCALENDAR
VERSION:2.0
PRODID:-//miraajacademy.org//NONSGML kigkonsult.se iCalcreator 2.30.10//
CALSCALE:GREGORIAN
METHOD:PUBLISH
UID:76265cc8-f327-4c71-ac64-aa8198728a12
X-WR-CALDESC:
X-WR-RELCALID:76431aac88560e769824baceff5d33da
X-WR-TIMEZONE:America/Chicago
BEGIN:VTIMEZONE
TZID:America/Chicago
BEGIN:STANDARD
TZNAME:CST
DTSTART:20241103T020000
TZOFFSETFROM:-0500
TZOFFSETTO:-0600
RDATE:20251102T020000
RDATE:20261101T020000
END:STANDARD
BEGIN:DAYLIGHT
TZNAME:CDT
DTSTART:20250309T020000
TZOFFSETFROM:-0600
TZOFFSETTO:-0500
RDATE:20260308T020000
END:DAYLIGHT
END:VTIMEZONE
BEGIN:VEVENT
UID:10f2152d-933e-419a-9944-fa2c7b4ac7e9
DTSTAMP:20260424T010931Z
DESCRIPTION:
DTSTART;TZID=America/Chicago:20250816T000000
DTEND;TZID=America/Chicago:20260124T235900
LOCATION:
SUMMARY:Recreational Activities
END:VEVENT
END:VCALENDAR
