BEGIN:VCALENDAR
VERSION:2.0
PRODID:-//miraajacademy.org//NONSGML kigkonsult.se iCalcreator 2.30.10//
CALSCALE:GREGORIAN
METHOD:PUBLISH
UID:d1985c7a-c3c4-4293-b645-ce1d3f0ac08f
X-WR-CALDESC:
X-WR-RELCALID:43a33d398abb774e573d70be99c2f910
X-WR-TIMEZONE:America/Chicago
BEGIN:VTIMEZONE
TZID:America/Chicago
BEGIN:STANDARD
TZNAME:CST
DTSTART:20241103T020000
TZOFFSETFROM:-0500
TZOFFSETTO:-0600
RDATE:20251102T020000
RDATE:20261101T020000
END:STANDARD
BEGIN:DAYLIGHT
TZNAME:CDT
DTSTART:20250309T020000
TZOFFSETFROM:-0600
TZOFFSETTO:-0500
RDATE:20260308T020000
END:DAYLIGHT
END:VTIMEZONE
BEGIN:VEVENT
UID:5df7a4f9-ed6c-4c6a-94ce-aa1635c1f58a
DTSTAMP:20260424T011236Z
DESCRIPTION:
DTSTART;TZID=America/Chicago:20250802T000000
DTEND;TZID=America/Chicago:20260110T235900
LOCATION:
SUMMARY:Recreational Activities
END:VEVENT
END:VCALENDAR
