BEGIN:VCALENDAR
VERSION:2.0
PRODID:-//miraajacademy.org//NONSGML kigkonsult.se iCalcreator 2.30.10//
CALSCALE:GREGORIAN
METHOD:PUBLISH
UID:40255067-ed38-4721-9265-00c888215166
X-WR-CALDESC:
X-WR-RELCALID:f376261f38a02ad0057362b37063a8a9
X-WR-TIMEZONE:America/Chicago
BEGIN:VTIMEZONE
TZID:America/Chicago
BEGIN:STANDARD
TZNAME:CST
DTSTART:20241103T020000
TZOFFSETFROM:-0500
TZOFFSETTO:-0600
RDATE:20251102T020000
RDATE:20261101T020000
END:STANDARD
BEGIN:DAYLIGHT
TZNAME:CDT
DTSTART:20250309T020000
TZOFFSETFROM:-0600
TZOFFSETTO:-0500
RDATE:20260308T020000
END:DAYLIGHT
END:VTIMEZONE
BEGIN:VEVENT
UID:79ae3e41-6a2f-40b9-b7f6-38d1864c5233
DTSTAMP:20260424T030000Z
DESCRIPTION:
DTSTART;TZID=America/Chicago:20250719T000000
DTEND;TZID=America/Chicago:20251227T235900
LOCATION:
SUMMARY:Recreational Activities
END:VEVENT
END:VCALENDAR
