BEGIN:VCALENDAR
VERSION:2.0
PRODID:-//miraajacademy.org//NONSGML kigkonsult.se iCalcreator 2.30.10//
CALSCALE:GREGORIAN
METHOD:PUBLISH
UID:171abbcc-ca11-48cf-956e-2e869d89e2b0
X-WR-CALDESC:
X-WR-RELCALID:b5107c0acef32ecb8a5d2d6002781f2e
X-WR-TIMEZONE:America/Chicago
BEGIN:VTIMEZONE
TZID:America/Chicago
BEGIN:STANDARD
TZNAME:CST
DTSTART:20241103T020000
TZOFFSETFROM:-0500
TZOFFSETTO:-0600
RDATE:20251102T020000
RDATE:20261101T020000
END:STANDARD
BEGIN:DAYLIGHT
TZNAME:CDT
DTSTART:20250309T020000
TZOFFSETFROM:-0600
TZOFFSETTO:-0500
RDATE:20260308T020000
END:DAYLIGHT
END:VTIMEZONE
BEGIN:VEVENT
UID:cc26365a-8dcf-4943-8f94-5a72faeb73f7
DTSTAMP:20260424T030200Z
DESCRIPTION:
DTSTART;TZID=America/Chicago:20250705T000000
DTEND;TZID=America/Chicago:20251213T235900
LOCATION:
SUMMARY:Recreational Activities
END:VEVENT
END:VCALENDAR
